
BEGIN:VCALENDAR
VERSION:2.0
PRODID:-//Positive Life - ECPv5.14.1//NONSGML v1.0//EN
CALSCALE:GREGORIAN
METHOD:PUBLISH
X-WR-CALNAME:Positive Life
X-ORIGINAL-URL:https://www.positivelife.ie
X-WR-CALDESC:Events for Positive Life
BEGIN:VTIMEZONE
TZID:Europe/Dublin
BEGIN:STANDARD
TZOFFSETFROM:+0000
TZOFFSETTO:+0100
TZNAME:IST
DTSTART:20240331T010000
END:STANDARD
BEGIN:DAYLIGHT
TZOFFSETFROM:+0100
TZOFFSETTO:+0000
TZNAME:GMT
DTSTART:20241027T010000
END:DAYLIGHT
END:VTIMEZONE
BEGIN:VEVENT
DTSTART;TZID=Europe/Dublin:20240624T193000
DTEND;TZID=Europe/Dublin:20240624T223000
DTSTAMP:20260420T103726
CREATED:20240202T173802Z
LAST-MODIFIED:20240321T183952Z
UID:27413-1719257400-1719268200@www.positivelife.ie
SUMMARY:Deva Premal and Miten - Singing Our Prayers 2024 With Special Guest Joby Baker
DESCRIPTION:DEVA PREMAL & MITEN With Special Guest Joby Baker – Singing Our Prayers 2024 \n  \nTickets Here: https://buytickets.at/positivelifemagazine/1144182 \nIn such a war-torn\, stressed out world\, can we stand together in a celebration of life\, despite the tragedies that the human race has brought upon itself? Is there still a space where we can gather with kindred spirits for joyful expression? \nCommitted to the ancient science of healing-through-sound\, Deva & Miten travel the planet sharing their Sanskrit mantras and songs of the spirit\, bringing light into a darkened world. For the past thirty years\, Deva and Miten have been with us in our sacred moments\, with their pristine expression of the power of Mantra\, accompanying thousands in times of great elation and in the depths of our deepest despair…like a gentle balm for the soul\, their music gives us a reason to move forward into life\, with an open heart and with a deep sense of hopefulness. More than ever before\, we need to come together to raise our voices – not only in protest\, but in collective and harmonious chant. \nJoin Deva and Miten with their special guest Joby Baker to experience the power that sustains and empowers us to rise above the struggle. \nhttps://devapremalmiten.com/ \nTickets Here: https://buytickets.at/positivelifemagazine/1144182 \n \n\n \nRefunds:  Please be advised that once your ticket is purchased we do not offer refunds.\nIf for some reason you cannot make the event you are welcome to transfer your ticket to a friend \, and please notify us of the change. You may also post the ticket on your social media for resale if you wish and again notify us of the new reference name attached to the ticket.
URL:https://www.positivelife.ie/event/deva-premal-and-miten-singing-our-prayers-2024-with-special-guest-joby-baker/
LOCATION:RDS Concert Hall\, RDS Concert Hall\, Merrion Rd\, Dublin\, D04 AK83\, Dublin\, D04 AK83\, Ireland
CATEGORIES:Positive Nights
ATTACH;FMTTYPE=image/jpeg:https://www.positivelife.ie/dev/wp-content/uploads/2024/02/tour24Joby_fb_820x360_02.jpg
END:VEVENT
END:VCALENDAR