
BEGIN:VCALENDAR
VERSION:2.0
PRODID:-//Positive Life - ECPv5.14.1//NONSGML v1.0//EN
CALSCALE:GREGORIAN
METHOD:PUBLISH
X-WR-CALNAME:Positive Life
X-ORIGINAL-URL:https://www.positivelife.ie
X-WR-CALDESC:Events for Positive Life
BEGIN:VTIMEZONE
TZID:Europe/Dublin
BEGIN:STANDARD
TZOFFSETFROM:+0000
TZOFFSETTO:+0100
TZNAME:IST
DTSTART:20240331T010000
END:STANDARD
BEGIN:DAYLIGHT
TZOFFSETFROM:+0100
TZOFFSETTO:+0000
TZNAME:GMT
DTSTART:20241027T010000
END:DAYLIGHT
END:VTIMEZONE
BEGIN:VEVENT
DTSTART;TZID=Europe/Dublin:20240627T190000
DTEND;TZID=Europe/Dublin:20240627T204500
DTSTAMP:20260420T120638
CREATED:20240602T122906Z
LAST-MODIFIED:20240602T122906Z
UID:27818-1719514800-1719521100@www.positivelife.ie
SUMMARY:Marianne Williamson in Dublin! Spiritually and Politically Where Do We Go Now?
DESCRIPTION:We are thrilled to welcome Marianne back to Dublin after her Presidential run! \n\nThursday\, June 27\, 2024\n7:00 PM 8:45 PM\n\n\nTalbot Hotel StillorganStillorgan RoadDublin\, DIreland\n\nTickets Available Here: https://www.seminars.ie/events/2024/6/27/marianne-williamson-in-dublin-spiritually-and-politically-where-do-we-go-now \nIn the words of Martin Luther King Jr\, “We need quantitative changes in our circumstances as well as qualitative shifts in our souls.” \nWith a Presidential run in the United States as well as the recent publication of her newest book\, THE MYSTIC JESUS: The Mind of Love\, Marianne Williamson has mined the depths of both external and internal change. Join her for an evening of reflection on both the political as well as spiritual shifts occurring in the world today\, what they mean in the larger arc of history\, and how we can direct them in the most positive ways. \nAbout the speaker\, Marianne Williamson \nView profile \nFor more than four decades\, Marianne Williamson has been a leader in spiritual and religiously progressive circles. She is the author of 16 books\, four of which have been #1 New York Times best sellers. A quote from the mega-bestseller A Return to Love\, “Our deepest fear is not that we are inadequate. Our deepest fear is that we are powerful beyond measure…” is considered an anthem for a contemporary generation of seekers. \nWilliamson founded Project Angel Food\, a non-profit organization that has delivered more than 16 million meals to ill and dying homebound patients in the Los Angeles area since 1989. The group was created to help people suffering from the ravages of HIV/AIDS. She has also worked throughout her career on poverty\, anti-hunger and racial reconciliation issues. In 2004\, she co-founded The Peace Alliance and supported the creation of a U.S. Department of Peace. Williamson ran for the democratic nomination for the Presidency of the United States in both 2020 and 2024. \nhttps://www.seminars.ie/events/2024/6/27/marianne-williamson-in-dublin-spiritually-and-politically-where-do-we-go-now \nIn May 2024\, Marianne’s latest book was published by HarperOne\, titled THE MYSTIC JESUS: The Mind of Love. \n This event is partnered with Seminars.ie 
URL:https://www.positivelife.ie/event/marianne-williamson-in-dublin-spiritually-and-politically-where-do-we-go-now/
LOCATION:Talbot Hotel Stillorgan\, Stillorgan Road\, Dublin\, Ireland
CATEGORIES:Holistic & Spiritual,Personal Development
ATTACH;FMTTYPE=image/jpeg:https://www.positivelife.ie/dev/wp-content/uploads/2024/06/IMG_1281.jpeg
END:VEVENT
END:VCALENDAR