
BEGIN:VCALENDAR
VERSION:2.0
PRODID:-//Positive Life - ECPv5.14.1//NONSGML v1.0//EN
CALSCALE:GREGORIAN
METHOD:PUBLISH
X-WR-CALNAME:Positive Life
X-ORIGINAL-URL:https://www.positivelife.ie
X-WR-CALDESC:Events for Positive Life
BEGIN:VTIMEZONE
TZID:Europe/Dublin
BEGIN:STANDARD
TZOFFSETFROM:+0000
TZOFFSETTO:+0100
TZNAME:IST
DTSTART:20240331T010000
END:STANDARD
BEGIN:DAYLIGHT
TZOFFSETFROM:+0100
TZOFFSETTO:+0000
TZNAME:GMT
DTSTART:20241027T010000
END:DAYLIGHT
END:VTIMEZONE
BEGIN:VEVENT
DTSTART;TZID=Europe/Dublin:20240613T183000
DTEND;TZID=Europe/Dublin:20240613T203000
DTSTAMP:20260420T120648
CREATED:20240225T122300Z
LAST-MODIFIED:20240523T200725Z
UID:27511-1718303400-1718310600@www.positivelife.ie
SUMMARY:Positive Nights Presents: Barbara O'Neill Part 2
DESCRIPTION:POSITIVE NIGHTS PRESENTS: BARBARA O NEILL\, PART 2 \nLIVING MAN\, LIVING WOMAN \nVENUE: BETANIA CHURCH DUBLIN\, Powerstown Road\, Dublin 15\, D15VOYK \n https://en.betania.ie/ \nTickets: https://buytickets.at/positivelifemagazine/1170962\nAbout Barbara: \nI am a lover of the Creator and the creation. I am convinced the body was designed to heal itself\, and will do so given the right conditions. My job is to teach those conditions. \nI am not a healer\, I am a teacher. Your body is the healer\, and I love to teach whoever is interested\, the conditions that allow and encourage this amazing body we live in to do what it has been designed to do …..heal itself! \nBarbara O’Neill arrives back with us this year\, with her treasure chest of information on how to be the best being you can be in the world today. Draw on nature and its bountiful resources to sustain your health. \nShe will hit upon themes like optimal sleep\, breath\, nutrition\, male and female hormonal health\, optimal brain function\, heart health. \nExpect a night of powerful wisdom from Barbara and a powerful gathering of like minded beings! \nTIME 18:30 TO 20:30 PM \nDOORS 17:30\, PLEASE NOTE 18:30 PM SHARP START \nTickets Available Here: https://buytickets.at/positivelifemagazine/1170962\nMore from Barbara: https://youtu.be/cBuK73K7t_0?si=GiRrQg0DweJBPqdh \nRefunds:  Please be advised that once your ticket is purchased we do not offer refunds.\nIf for some reason you cannot make the event you are welcome to transfer your ticket to a friend \, and please notify us of the change. You may also post the ticket on your social media for resale if you wish and again notify us of the new reference name attached to the ticket.
URL:https://www.positivelife.ie/event/positive-nights-presents-barbara-oneill-part-2/
LOCATION:Betania Dublin\, Powerstown Road\, Dublin 15\, Ireland; D15V0YK\, Dublin\, Leinster\, D15V0YK\, Ireland
CATEGORIES:Holistic & Spiritual,Personal Development,Positive Nights
ATTACH;FMTTYPE=image/jpeg:https://www.positivelife.ie/dev/wp-content/uploads/2023/09/IMG_0559.jpeg
END:VEVENT
END:VCALENDAR